BEGIN:VCALENDAR
VERSION:2.0
PRODID:-//NADI RTP Padang Besar - ECPv6.15.13.1//NONSGML v1.0//EN
CALSCALE:GREGORIAN
METHOD:PUBLISH
X-WR-CALNAME:NADI RTP Padang Besar
X-ORIGINAL-URL:https://rtppadangbesar.nadi.my
X-WR-CALDESC:Events for NADI RTP Padang Besar
REFRESH-INTERVAL;VALUE=DURATION:PT1H
X-Robots-Tag:noindex
X-PUBLISHED-TTL:PT1H
BEGIN:VTIMEZONE
TZID:Asia/Kuala_Lumpur
BEGIN:STANDARD
TZOFFSETFROM:+0800
TZOFFSETTO:+0800
TZNAME:+08
DTSTART:20240101T000000
END:STANDARD
END:VTIMEZONE
BEGIN:VEVENT
DTSTART;TZID=Asia/Kuala_Lumpur:20260324T160000
DTEND;TZID=Asia/Kuala_Lumpur:20260324T170000
DTSTAMP:20260426T013650
CREATED:20260304T023218Z
LAST-MODIFIED:20260304T023218Z
UID:4114-1774368000-1774371600@rtppadangbesar.nadi.my
SUMMARY:PROGRAM DILEA-PODCAST
DESCRIPTION:
URL:https://rtppadangbesar.nadi.my/event/program-dilea-podcast-4/
END:VEVENT
BEGIN:VEVENT
DTSTART;TZID=Asia/Kuala_Lumpur:20260317T160000
DTEND;TZID=Asia/Kuala_Lumpur:20260317T170000
DTSTAMP:20260426T013650
CREATED:20260304T023143Z
LAST-MODIFIED:20260304T023143Z
UID:4112-1773763200-1773766800@rtppadangbesar.nadi.my
SUMMARY:KIDVENTURE - WEBINAR
DESCRIPTION:
URL:https://rtppadangbesar.nadi.my/event/kidventure-webinar-3/
END:VEVENT
BEGIN:VEVENT
DTSTART;TZID=Asia/Kuala_Lumpur:20260313T080000
DTEND;TZID=Asia/Kuala_Lumpur:20260313T170000
DTSTAMP:20260426T013650
CREATED:20260304T023052Z
LAST-MODIFIED:20260304T023052Z
UID:4110-1773388800-1773421200@rtppadangbesar.nadi.my
SUMMARY:KELAS TINY TECHIES
DESCRIPTION:
URL:https://rtppadangbesar.nadi.my/event/kelas-tiny-techies-4/
END:VEVENT
BEGIN:VEVENT
DTSTART;TZID=Asia/Kuala_Lumpur:20260309T160000
DTEND;TZID=Asia/Kuala_Lumpur:20260309T170000
DTSTAMP:20260426T013650
CREATED:20260304T023015Z
LAST-MODIFIED:20260304T023015Z
UID:4108-1773072000-1773075600@rtppadangbesar.nadi.my
SUMMARY:PROGRAM EDISI EKSPRESS KIDVENTURE
DESCRIPTION:
URL:https://rtppadangbesar.nadi.my/event/program-edisi-ekspress-kidventure-4/
END:VEVENT
BEGIN:VEVENT
DTSTART;TZID=Asia/Kuala_Lumpur:20260306T153000
DTEND;TZID=Asia/Kuala_Lumpur:20260306T163000
DTSTAMP:20260426T013650
CREATED:20260304T022821Z
LAST-MODIFIED:20260304T022821Z
UID:4106-1772811000-1772814600@rtppadangbesar.nadi.my
SUMMARY:PROGRAM DILEA
DESCRIPTION:
URL:https://rtppadangbesar.nadi.my/event/program-dilea-16/
END:VEVENT
BEGIN:VEVENT
DTSTART;TZID=Asia/Kuala_Lumpur:20260302T160000
DTEND;TZID=Asia/Kuala_Lumpur:20260302T170000
DTSTAMP:20260426T013650
CREATED:20260304T022754Z
LAST-MODIFIED:20260304T022754Z
UID:4104-1772467200-1772470800@rtppadangbesar.nadi.my
SUMMARY:KELAS MICROSOFT
DESCRIPTION:
URL:https://rtppadangbesar.nadi.my/event/kelas-microsoft/
END:VEVENT
BEGIN:VEVENT
DTSTART;TZID=Asia/Kuala_Lumpur:20260226T150000
DTEND;TZID=Asia/Kuala_Lumpur:20260226T170000
DTSTAMP:20260426T013650
CREATED:20260204T013628Z
LAST-MODIFIED:20260204T013628Z
UID:4062-1772118000-1772125200@rtppadangbesar.nadi.my
SUMMARY:KELAS MEMBUAT POSTER
DESCRIPTION:
URL:https://rtppadangbesar.nadi.my/event/kelas-membuat-poster/
END:VEVENT
BEGIN:VEVENT
DTSTART;TZID=Asia/Kuala_Lumpur:20260224T143000
DTEND;TZID=Asia/Kuala_Lumpur:20260224T163000
DTSTAMP:20260426T013650
CREATED:20260204T013557Z
LAST-MODIFIED:20260204T013557Z
UID:4060-1771943400-1771950600@rtppadangbesar.nadi.my
SUMMARY:PERMAINAN DALAM TALIAN
DESCRIPTION:
URL:https://rtppadangbesar.nadi.my/event/permainan-dalam-talian-3/
END:VEVENT
BEGIN:VEVENT
DTSTART;TZID=Asia/Kuala_Lumpur:20260223T143000
DTEND;TZID=Asia/Kuala_Lumpur:20260223T163000
DTSTAMP:20260426T013650
CREATED:20260204T013525Z
LAST-MODIFIED:20260204T013525Z
UID:4058-1771857000-1771864200@rtppadangbesar.nadi.my
SUMMARY:TINY TECHIES
DESCRIPTION:
URL:https://rtppadangbesar.nadi.my/event/tiny-techies-3/
END:VEVENT
BEGIN:VEVENT
DTSTART;TZID=Asia/Kuala_Lumpur:20260216T143000
DTEND;TZID=Asia/Kuala_Lumpur:20260216T163000
DTSTAMP:20260426T013650
CREATED:20260204T013457Z
LAST-MODIFIED:20260204T013457Z
UID:4056-1771252200-1771259400@rtppadangbesar.nadi.my
SUMMARY:PROGRAM DILEA-PODCAST
DESCRIPTION:
URL:https://rtppadangbesar.nadi.my/event/program-dilea-podcast-3/
END:VEVENT
BEGIN:VEVENT
DTSTART;TZID=Asia/Kuala_Lumpur:20260214T143000
DTEND;TZID=Asia/Kuala_Lumpur:20260214T163000
DTSTAMP:20260426T013650
CREATED:20260204T013419Z
LAST-MODIFIED:20260204T013419Z
UID:4054-1771079400-1771086600@rtppadangbesar.nadi.my
SUMMARY:KIDVENTURE- WEBINAR
DESCRIPTION:
URL:https://rtppadangbesar.nadi.my/event/kidventure-webinar-2/
END:VEVENT
BEGIN:VEVENT
DTSTART;TZID=Asia/Kuala_Lumpur:20260209T143000
DTEND;TZID=Asia/Kuala_Lumpur:20260209T163000
DTSTAMP:20260426T013650
CREATED:20260204T013344Z
LAST-MODIFIED:20260204T013344Z
UID:4052-1770647400-1770654600@rtppadangbesar.nadi.my
SUMMARY:KELAS TINY TECHIES
DESCRIPTION:
URL:https://rtppadangbesar.nadi.my/event/kelas-tiny-techies-3/
END:VEVENT
BEGIN:VEVENT
DTSTART;TZID=Asia/Kuala_Lumpur:20260206T143000
DTEND;TZID=Asia/Kuala_Lumpur:20260206T163000
DTSTAMP:20260426T013650
CREATED:20260204T013311Z
LAST-MODIFIED:20260204T013311Z
UID:4050-1770388200-1770395400@rtppadangbesar.nadi.my
SUMMARY:PROGRAM EDISI EKSPRESS KIDVENTURE
DESCRIPTION:
URL:https://rtppadangbesar.nadi.my/event/program-edisi-ekspress-kidventure-3/
END:VEVENT
BEGIN:VEVENT
DTSTART;TZID=Asia/Kuala_Lumpur:20260204T143000
DTEND;TZID=Asia/Kuala_Lumpur:20260204T163000
DTSTAMP:20260426T013650
CREATED:20260204T013208Z
LAST-MODIFIED:20260204T013208Z
UID:4048-1770215400-1770222600@rtppadangbesar.nadi.my
SUMMARY:PROGRAM DILEA
DESCRIPTION:
URL:https://rtppadangbesar.nadi.my/event/program-dilea-15/
END:VEVENT
BEGIN:VEVENT
DTSTART;TZID=Asia/Kuala_Lumpur:20260129T090000
DTEND;TZID=Asia/Kuala_Lumpur:20260129T130000
DTSTAMP:20260426T013650
CREATED:20260106T022335Z
LAST-MODIFIED:20260106T022335Z
UID:4000-1769677200-1769691600@rtppadangbesar.nadi.my
SUMMARY:PERMAINAN DALAM TALIAN
DESCRIPTION:
URL:https://rtppadangbesar.nadi.my/event/permainan-dalam-talian-2/
END:VEVENT
BEGIN:VEVENT
DTSTART;TZID=Asia/Kuala_Lumpur:20260123T090000
DTEND;TZID=Asia/Kuala_Lumpur:20260123T130000
DTSTAMP:20260426T013650
CREATED:20260106T022309Z
LAST-MODIFIED:20260106T022309Z
UID:3998-1769158800-1769173200@rtppadangbesar.nadi.my
SUMMARY:TINY TECHIES
DESCRIPTION:
URL:https://rtppadangbesar.nadi.my/event/tiny-techies-2/
END:VEVENT
BEGIN:VEVENT
DTSTART;TZID=Asia/Kuala_Lumpur:20260122T090000
DTEND;TZID=Asia/Kuala_Lumpur:20260122T130000
DTSTAMP:20260426T013650
CREATED:20260106T022239Z
LAST-MODIFIED:20260106T022239Z
UID:3996-1769072400-1769086800@rtppadangbesar.nadi.my
SUMMARY:PROGRAM DILEA-PODCAST
DESCRIPTION:
URL:https://rtppadangbesar.nadi.my/event/program-dilea-podcast-2/
END:VEVENT
BEGIN:VEVENT
DTSTART;TZID=Asia/Kuala_Lumpur:20260113T090000
DTEND;TZID=Asia/Kuala_Lumpur:20260113T130000
DTSTAMP:20260426T013650
CREATED:20260106T022207Z
LAST-MODIFIED:20260106T022207Z
UID:3994-1768294800-1768309200@rtppadangbesar.nadi.my
SUMMARY:KIDVENTURE - WEBINAR
DESCRIPTION:
URL:https://rtppadangbesar.nadi.my/event/kidventure-webinar/
END:VEVENT
BEGIN:VEVENT
DTSTART;TZID=Asia/Kuala_Lumpur:20260108T090000
DTEND;TZID=Asia/Kuala_Lumpur:20260108T120000
DTSTAMP:20260426T013650
CREATED:20260106T022130Z
LAST-MODIFIED:20260106T022130Z
UID:3992-1767862800-1767873600@rtppadangbesar.nadi.my
SUMMARY:KELAS TINY TECHIES
DESCRIPTION:
URL:https://rtppadangbesar.nadi.my/event/kelas-tiny-techies-2/
END:VEVENT
BEGIN:VEVENT
DTSTART;TZID=Asia/Kuala_Lumpur:20260105T090000
DTEND;TZID=Asia/Kuala_Lumpur:20260105T130000
DTSTAMP:20260426T013650
CREATED:20260106T022053Z
LAST-MODIFIED:20260106T022053Z
UID:3990-1767603600-1767618000@rtppadangbesar.nadi.my
SUMMARY:PROGRAM EDISI EKSPRESS KIDVENTURE
DESCRIPTION:
URL:https://rtppadangbesar.nadi.my/event/program-edisi-ekspress-kidventure-2/
END:VEVENT
BEGIN:VEVENT
DTSTART;TZID=Asia/Kuala_Lumpur:20260103T090000
DTEND;TZID=Asia/Kuala_Lumpur:20260103T130000
DTSTAMP:20260426T013650
CREATED:20260106T022012Z
LAST-MODIFIED:20260106T022012Z
UID:3988-1767430800-1767445200@rtppadangbesar.nadi.my
SUMMARY:PROGRAM DILEA
DESCRIPTION:
URL:https://rtppadangbesar.nadi.my/event/program-dilea-14/
END:VEVENT
BEGIN:VEVENT
DTSTART;TZID=Asia/Kuala_Lumpur:20251229T140000
DTEND;TZID=Asia/Kuala_Lumpur:20251229T180000
DTSTAMP:20260426T013650
CREATED:20251201T065532Z
LAST-MODIFIED:20251201T065532Z
UID:3939-1767016800-1767031200@rtppadangbesar.nadi.my
SUMMARY:PERMAINAN DALAM TALIAN
DESCRIPTION:
URL:https://rtppadangbesar.nadi.my/event/permainan-dalam-talian/
END:VEVENT
BEGIN:VEVENT
DTSTART;TZID=Asia/Kuala_Lumpur:20251223T140000
DTEND;TZID=Asia/Kuala_Lumpur:20251223T180000
DTSTAMP:20260426T013650
CREATED:20251201T065503Z
LAST-MODIFIED:20251201T065503Z
UID:3937-1766498400-1766512800@rtppadangbesar.nadi.my
SUMMARY:TINY TECHIES
DESCRIPTION:
URL:https://rtppadangbesar.nadi.my/event/tiny-techies/
END:VEVENT
BEGIN:VEVENT
DTSTART;TZID=Asia/Kuala_Lumpur:20251222T140000
DTEND;TZID=Asia/Kuala_Lumpur:20251222T180000
DTSTAMP:20260426T013650
CREATED:20251201T065409Z
LAST-MODIFIED:20251201T065409Z
UID:3935-1766412000-1766426400@rtppadangbesar.nadi.my
SUMMARY:PROGRAM DILEA -PODCAST
DESCRIPTION:
URL:https://rtppadangbesar.nadi.my/event/program-dilea-podcast/
END:VEVENT
BEGIN:VEVENT
DTSTART;TZID=Asia/Kuala_Lumpur:20251213T140000
DTEND;TZID=Asia/Kuala_Lumpur:20251213T180000
DTSTAMP:20260426T013650
CREATED:20251201T065324Z
LAST-MODIFIED:20251201T065553Z
UID:3933-1765634400-1765648800@rtppadangbesar.nadi.my
SUMMARY:KIDVENTURE COHORT 8 - WEBINAR PELAN PERNIAGAAN PERTAMA SAYA
DESCRIPTION:
URL:https://rtppadangbesar.nadi.my/event/kidventure-cohort-8-webinar-pelan-perniagaan-pertama-saya/
END:VEVENT
BEGIN:VEVENT
DTSTART;TZID=Asia/Kuala_Lumpur:20251207T140000
DTEND;TZID=Asia/Kuala_Lumpur:20251207T180000
DTSTAMP:20260426T013650
CREATED:20251201T065139Z
LAST-MODIFIED:20251201T065139Z
UID:3931-1765116000-1765130400@rtppadangbesar.nadi.my
SUMMARY:KELAS TINY TECHIES
DESCRIPTION:
URL:https://rtppadangbesar.nadi.my/event/kelas-tiny-techies/
END:VEVENT
BEGIN:VEVENT
DTSTART;TZID=Asia/Kuala_Lumpur:20251204T140000
DTEND;TZID=Asia/Kuala_Lumpur:20251204T180000
DTSTAMP:20260426T013650
CREATED:20251201T065044Z
LAST-MODIFIED:20251201T065044Z
UID:3929-1764856800-1764871200@rtppadangbesar.nadi.my
SUMMARY:PROGRAM EDISI EKSPRESS KIDVENTURE
DESCRIPTION:
URL:https://rtppadangbesar.nadi.my/event/program-edisi-ekspress-kidventure/
END:VEVENT
BEGIN:VEVENT
DTSTART;TZID=Asia/Kuala_Lumpur:20251203T140000
DTEND;TZID=Asia/Kuala_Lumpur:20251203T180000
DTSTAMP:20260426T013650
CREATED:20251201T065003Z
LAST-MODIFIED:20251201T065003Z
UID:3927-1764770400-1764784800@rtppadangbesar.nadi.my
SUMMARY:PROGRAM ESPORT
DESCRIPTION:
URL:https://rtppadangbesar.nadi.my/event/program-esport/
END:VEVENT
BEGIN:VEVENT
DTSTART;TZID=Asia/Kuala_Lumpur:20251129T080000
DTEND;TZID=Asia/Kuala_Lumpur:20251129T170000
DTSTAMP:20260426T013650
CREATED:20251104T024626Z
LAST-MODIFIED:20251104T024626Z
UID:3882-1764403200-1764435600@rtppadangbesar.nadi.my
SUMMARY:DILEA- WEBINAR MT-EDISI 5
DESCRIPTION:
URL:https://rtppadangbesar.nadi.my/event/dilea-webinar-mt-edisi-5/
END:VEVENT
BEGIN:VEVENT
DTSTART;TZID=Asia/Kuala_Lumpur:20251122T090000
DTEND;TZID=Asia/Kuala_Lumpur:20251122T170000
DTSTAMP:20260426T013650
CREATED:20251104T024517Z
LAST-MODIFIED:20251104T024517Z
UID:3880-1763802000-1763830800@rtppadangbesar.nadi.my
SUMMARY:TINY TECHIES : SUMO ROBOT WORKSHOP SESSION 4
DESCRIPTION:
URL:https://rtppadangbesar.nadi.my/event/tiny-techies-sumo-robot-workshop-session-4/
END:VEVENT
END:VCALENDAR