BEGIN:VCALENDAR
VERSION:2.0
PRODID:-//NADI RTP Padang Besar - ECPv6.15.13.1//NONSGML v1.0//EN
CALSCALE:GREGORIAN
METHOD:PUBLISH
X-WR-CALNAME:NADI RTP Padang Besar
X-ORIGINAL-URL:https://rtppadangbesar.nadi.my
X-WR-CALDESC:Events for NADI RTP Padang Besar
REFRESH-INTERVAL;VALUE=DURATION:PT1H
X-Robots-Tag:noindex
X-PUBLISHED-TTL:PT1H
BEGIN:VTIMEZONE
TZID:Asia/Kuala_Lumpur
BEGIN:STANDARD
TZOFFSETFROM:+0800
TZOFFSETTO:+0800
TZNAME:+08
DTSTART:20250101T000000
END:STANDARD
END:VTIMEZONE
BEGIN:VEVENT
DTSTART;TZID=Asia/Kuala_Lumpur:20260103T090000
DTEND;TZID=Asia/Kuala_Lumpur:20260103T130000
DTSTAMP:20260425T113239
CREATED:20260106T022012Z
LAST-MODIFIED:20260106T022012Z
UID:3988-1767430800-1767445200@rtppadangbesar.nadi.my
SUMMARY:PROGRAM DILEA
DESCRIPTION:
URL:https://rtppadangbesar.nadi.my/event/program-dilea-14/
END:VEVENT
BEGIN:VEVENT
DTSTART;TZID=Asia/Kuala_Lumpur:20260105T090000
DTEND;TZID=Asia/Kuala_Lumpur:20260105T130000
DTSTAMP:20260425T113239
CREATED:20260106T022053Z
LAST-MODIFIED:20260106T022053Z
UID:3990-1767603600-1767618000@rtppadangbesar.nadi.my
SUMMARY:PROGRAM EDISI EKSPRESS KIDVENTURE
DESCRIPTION:
URL:https://rtppadangbesar.nadi.my/event/program-edisi-ekspress-kidventure-2/
END:VEVENT
BEGIN:VEVENT
DTSTART;TZID=Asia/Kuala_Lumpur:20260108T090000
DTEND;TZID=Asia/Kuala_Lumpur:20260108T120000
DTSTAMP:20260425T113239
CREATED:20260106T022130Z
LAST-MODIFIED:20260106T022130Z
UID:3992-1767862800-1767873600@rtppadangbesar.nadi.my
SUMMARY:KELAS TINY TECHIES
DESCRIPTION:
URL:https://rtppadangbesar.nadi.my/event/kelas-tiny-techies-2/
END:VEVENT
BEGIN:VEVENT
DTSTART;TZID=Asia/Kuala_Lumpur:20260113T090000
DTEND;TZID=Asia/Kuala_Lumpur:20260113T130000
DTSTAMP:20260425T113239
CREATED:20260106T022207Z
LAST-MODIFIED:20260106T022207Z
UID:3994-1768294800-1768309200@rtppadangbesar.nadi.my
SUMMARY:KIDVENTURE - WEBINAR
DESCRIPTION:
URL:https://rtppadangbesar.nadi.my/event/kidventure-webinar/
END:VEVENT
BEGIN:VEVENT
DTSTART;TZID=Asia/Kuala_Lumpur:20260122T090000
DTEND;TZID=Asia/Kuala_Lumpur:20260122T130000
DTSTAMP:20260425T113239
CREATED:20260106T022239Z
LAST-MODIFIED:20260106T022239Z
UID:3996-1769072400-1769086800@rtppadangbesar.nadi.my
SUMMARY:PROGRAM DILEA-PODCAST
DESCRIPTION:
URL:https://rtppadangbesar.nadi.my/event/program-dilea-podcast-2/
END:VEVENT
BEGIN:VEVENT
DTSTART;TZID=Asia/Kuala_Lumpur:20260123T090000
DTEND;TZID=Asia/Kuala_Lumpur:20260123T130000
DTSTAMP:20260425T113239
CREATED:20260106T022309Z
LAST-MODIFIED:20260106T022309Z
UID:3998-1769158800-1769173200@rtppadangbesar.nadi.my
SUMMARY:TINY TECHIES
DESCRIPTION:
URL:https://rtppadangbesar.nadi.my/event/tiny-techies-2/
END:VEVENT
BEGIN:VEVENT
DTSTART;TZID=Asia/Kuala_Lumpur:20260129T090000
DTEND;TZID=Asia/Kuala_Lumpur:20260129T130000
DTSTAMP:20260425T113239
CREATED:20260106T022335Z
LAST-MODIFIED:20260106T022335Z
UID:4000-1769677200-1769691600@rtppadangbesar.nadi.my
SUMMARY:PERMAINAN DALAM TALIAN
DESCRIPTION:
URL:https://rtppadangbesar.nadi.my/event/permainan-dalam-talian-2/
END:VEVENT
END:VCALENDAR